BEGIN:VCALENDAR
VERSION:2.0
PRODID:-//The Blue Guitars - ECPv6.15.20//NONSGML v1.0//EN
CALSCALE:GREGORIAN
METHOD:PUBLISH
X-ORIGINAL-URL:https://theblueguitars.com
X-WR-CALDESC:Events for The Blue Guitars
REFRESH-INTERVAL;VALUE=DURATION:PT1H
X-Robots-Tag:noindex
X-PUBLISHED-TTL:PT1H
BEGIN:VTIMEZONE
TZID:America/New_York
BEGIN:DAYLIGHT
TZOFFSETFROM:-0500
TZOFFSETTO:-0400
TZNAME:EDT
DTSTART:20210314T070000
END:DAYLIGHT
BEGIN:STANDARD
TZOFFSETFROM:-0400
TZOFFSETTO:-0500
TZNAME:EST
DTSTART:20211107T060000
END:STANDARD
BEGIN:DAYLIGHT
TZOFFSETFROM:-0500
TZOFFSETTO:-0400
TZNAME:EDT
DTSTART:20220313T070000
END:DAYLIGHT
BEGIN:STANDARD
TZOFFSETFROM:-0400
TZOFFSETTO:-0500
TZNAME:EST
DTSTART:20221106T060000
END:STANDARD
BEGIN:DAYLIGHT
TZOFFSETFROM:-0500
TZOFFSETTO:-0400
TZNAME:EDT
DTSTART:20230312T070000
END:DAYLIGHT
BEGIN:STANDARD
TZOFFSETFROM:-0400
TZOFFSETTO:-0500
TZNAME:EST
DTSTART:20231105T060000
END:STANDARD
BEGIN:DAYLIGHT
TZOFFSETFROM:-0500
TZOFFSETTO:-0400
TZNAME:EDT
DTSTART:20240310T070000
END:DAYLIGHT
BEGIN:STANDARD
TZOFFSETFROM:-0400
TZOFFSETTO:-0500
TZNAME:EST
DTSTART:20241103T060000
END:STANDARD
END:VTIMEZONE
BEGIN:VEVENT
DTSTART;VALUE=DATE:20230414
DTEND;VALUE=DATE:20230417
DTSTAMP:20260423T040934
CREATED:20230411T111645Z
LAST-MODIFIED:20230411T111645Z
UID:996-1681430400-1681689599@theblueguitars.com
SUMMARY:The Artisan Guitar Show -2023
DESCRIPTION:
URL:https://theblueguitars.com/event/the-artisan-guitar-show-2023/
LOCATION:Best Western Premier The Central Hotel & Conference Center\, 800 E. Park Drive\, Harrisburg\, PA\, 17111
ATTACH;FMTTYPE=image/jpeg:https://theblueguitars.com/wp-content/uploads/2023/04/334003467_3621423991469480_21516980810738972_n.jpg
END:VEVENT
BEGIN:VEVENT
DTSTART;TZID=America/New_York:20221021T080000
DTEND;TZID=America/New_York:20221023T170000
DTSTAMP:20260423T040934
CREATED:20220603T161103Z
LAST-MODIFIED:20220603T161103Z
UID:707-1666339200-1666544400@theblueguitars.com
SUMMARY:Woodstock Invitational Luthiers Showcase
DESCRIPTION:
URL:https://theblueguitars.com/event/woodstock-invitational-luthiers-showcase/
LOCATION:Bearsville Center\, Woodstock\, New York
ATTACH;FMTTYPE=image/jpeg:https://theblueguitars.com/wp-content/uploads/2022/06/242801109_4679183228782789_7008511160482769520_n.jpeg
END:VEVENT
BEGIN:VEVENT
DTSTART;VALUE=DATE:20220909
DTEND;VALUE=DATE:20220912
DTSTAMP:20260423T040934
CREATED:20220603T160908Z
LAST-MODIFIED:20220603T160908Z
UID:704-1662681600-1662940799@theblueguitars.com
SUMMARY:Rocky Mountain Archtop Festival
DESCRIPTION:
URL:https://theblueguitars.com/event/rocky-mountain-archtop-festival/
LOCATION:Hilton Garden Inn Arvada Denver\, 5455 Olde Wadsworth Boulevard\, Arvada\, Colorado\, 80002
ATTACH;FMTTYPE=image/jpeg:https://theblueguitars.com/wp-content/uploads/2022/06/RMAF-logo-2022-2048x1391-1.jpeg
END:VEVENT
END:VCALENDAR